BEGIN:VCALENDAR
VERSION:2.0
PRODID:-//Ormea.info - ECPv6.1.4//NONSGML v1.0//EN
CALSCALE:GREGORIAN
METHOD:PUBLISH
X-WR-CALNAME:Ormea.info
X-ORIGINAL-URL:https://ormea.info
X-WR-CALDESC:Eventi per Ormea.info
REFRESH-INTERVAL;VALUE=DURATION:PT1H
X-Robots-Tag:noindex
X-PUBLISHED-TTL:PT1H
BEGIN:VTIMEZONE
TZID:Europe/Rome
BEGIN:DAYLIGHT
TZOFFSETFROM:+0100
TZOFFSETTO:+0200
TZNAME:CEST
DTSTART:20250330T010000
END:DAYLIGHT
BEGIN:STANDARD
TZOFFSETFROM:+0200
TZOFFSETTO:+0100
TZNAME:CET
DTSTART:20251026T010000
END:STANDARD
END:VTIMEZONE
BEGIN:VEVENT
DTSTART;VALUE=DATE:20250706
DTEND;VALUE=DATE:20250720
DTSTAMP:20260424T013033
CREATED:20250315T121840Z
LAST-MODIFIED:20250315T122738Z
UID:15783-1751760000-1752969599@ormea.info
SUMMARY:Rocco Rainbow Woman Camp
DESCRIPTION:Rocco Rainbow Woman Summer Camp: un’esperienza di calcio tutta al femminile!\nL’ASD Ormea\, in collaborazione con ASD Sport-Time\, organizza la quinta edizione del Rocco Rainbow Woman Summer Camp\, un’esperienza unica dedicata al calcio femminile guidata da Mister Rocco Vitale. L’evento si svolgerà dal 6 al 12 luglio 2025 (1° Settimana) e dal 13 al 19 luglio 2025 (2° settimana)  a Ormea\, offrendo alle partecipanti l’opportunità di allenarsi con tecnici qualificati e di vivere una settimana all’insegna dello sport\, della crescita personale e del divertimento. \nAperto a bambine e ragazze dai 5 ai 18 anni\, il camp propone un programma completo che include allenamenti mirati\, attività ludiche\, escursioni e momenti di socializzazione. Le giovani calciatrici potranno sviluppare le loro capacità tecniche e motorie sotto la guida di istruttori certificati UEFA e CONI\, in un ambiente accogliente e stimolante. \nIl Rocco Rainbow Woman Summer Camp è più di un semplice ritiro sportivo: è un’opportunità per scoprire il calcio in un’atmosfera di inclusione e amicizia\, immersi nella splendida cornice di Ormea. \nFormule Day Camp e Full Camp (1 o 2 settimane). \nIscrizioni e informazioni al 347 5120829
URL:https://ormea.info/evento/rainbow-woman-camp/15/2025/
LOCATION:Area Sportiva Borganza\, Località Borganza\, Ormea\, CN\, 12078\, Italy
CATEGORIES:Summer Camp
ATTACH;FMTTYPE=image/jpeg:https://ormea.info/wp-content/uploads/2025/03/rainbow-woman-camp-360.jpg
ORGANIZER;CN="ASD%20Ormea%20Calcio":MAILTO:asdormea@gmail.com
END:VEVENT
BEGIN:VEVENT
DTSTART;VALUE=DATE:20250712
DTEND;VALUE=DATE:20250713
DTSTAMP:20260424T013033
CREATED:20250710T082115Z
LAST-MODIFIED:20250710T082115Z
UID:16032-1752278400-1752364799@ormea.info
SUMMARY:Visita guidata a Viozene
DESCRIPTION:Sabato 12 luglio 2025 alle ore 10:00 si terrà l’inaugurazione della nuova zona attrezzata “Piumini” a Viozene\, in Alta Val Tanaro. L’area è stata realizzata per offrire uno spazio ricreativo immerso nel verde\, con giochi per bambini e strutture adatte a famiglie e visitatori. Seguirà intitolazione del Campo Sportivo a Gilberto Dolla e Mauro Sappa\, visita al paese e ai lavori effettuati alla facciata della chiesa e infine visita al parco giochi. \nLa giornata prevede l’apertura ufficiale della zona da parte della Pro Loco Viozene Alta Val Tanaro\, con la possibilità di visitare gli spazi e partecipare alle attività all’aperto. L’iniziativa rientra nel programma di valorizzazione del territorio e si rivolge sia ai residenti sia a chi visita Viozene durante il periodo estivo.\nLa manifestazione è aperta al pubblico e rappresenta un’occasione per conoscere questa nuova area dedicata al tempo libero e alla socialità.
URL:https://ormea.info/evento/visita-guidata-a-viozene/10/2025/
LOCATION:Viozene\, Viozene\, CN\, 12078\, Italy
CATEGORIES:Manifestazioni
ATTACH;FMTTYPE=image/jpeg:https://ormea.info/wp-content/uploads/2025/07/visita-guidata-viozene.jpg
END:VEVENT
BEGIN:VEVENT
DTSTART;TZID=Europe/Rome:20250712T160000
DTEND;TZID=Europe/Rome:20250712T190000
DTSTAMP:20260424T013033
CREATED:20250702T094921Z
LAST-MODIFIED:20250702T094921Z
UID:15969-1752336000-1752346800@ormea.info
SUMMARY:Sulle Orme dei Crepuscolari
DESCRIPTION:Sabato 12 luglio alle ore 16.00 nel Salone della Croce Bianca di Ormea incontro di carattere poetico-letterario sul tema “Seguendo le orme dei crepuscolari” ed oltre – da Gozzano ad Angiolo Silvio Novaro nella Ormea Liberty. \nModeratore: Aligi Michelis \n\nIl Sindaco Giorgio Ferraris ricorderà la Ormea della “belle époque”\nValter Boggione\, ordinario di letteratura italiana all’Università di Torino\, interverrà con riferimenti ai poeti crepuscolari\,\nA Paolo Pera\, saggista e poeta\, il compito di presentare poesie\, in tema\, di ieri e di oggi.\nAd Alessandro Borgna l’impegno di coordinare alcune “visite esterne”\, in rapporto al tema dell’incontro.\nLetture a cura di Massimo Mallucci de Mulucci
URL:https://ormea.info/evento/sulle-orme-dei-crepuscolari/02/2025/
LOCATION:Salone Croce Bianca\, Viale Cagna 76\, Ormea\, CN\, 12078\, Italy
CATEGORIES:Cultura e tradizioni,Incontri
ATTACH;FMTTYPE=image/jpeg:https://ormea.info/wp-content/uploads/2025/07/sulle-orme-dei-crepuscolari.jpeg
ORGANIZER;CN="Associazione%20Culturale%20Ulmeta":MAILTO:associazione.ulmeta@gmail.com
END:VEVENT
BEGIN:VEVENT
DTSTART;TZID=Europe/Rome:20250712T210000
DTEND;TZID=Europe/Rome:20250712T210000
DTSTAMP:20260424T013033
CREATED:20250706T082032Z
LAST-MODIFIED:20250706T082104Z
UID:16016-1752354000-1752354000@ormea.info
SUMMARY:Gemellaggio con la Corale "Montagne Verdi" di Calizzano
DESCRIPTION:Il prossimo 12 luglio 2025\, la città di Ormea ospiterà il gemellaggio tra la Corale “Stella Alpina” di Ormea e la Corale “Montagne Verdi” di Calizzano. \nL’incontro si terrà nella splendida cornice della Chiesa dei Battuti di Ormea\, e sarà un’occasione per celebrare l’amicizia tra due cori legati dalla passione per il canto e dalla volontà di valorizzare le rispettive tradizioni musicali. \nVi aspettiamo per un’emozionante serata all’insegna della musica\, della collaborazione e dell’amicizia tra comunità!
URL:https://ormea.info/evento/gemellaggio-con-la-corale-montagne-verdi-di-calizzano/06/2025/
LOCATION:Chiesa dei Battuti\, Piazza San Martino\, Ormea\, CN\, 12078\, Italy
CATEGORIES:Incontri
ATTACH;FMTTYPE=image/jpeg:https://ormea.info/wp-content/uploads/2025/07/img-115314-O-28-800-0-0-ef5084aed353c0a729a6be20d2021a6c.jpg
END:VEVENT
BEGIN:VEVENT
DTSTART;TZID=Europe/Rome:20250712T230000
DTEND;TZID=Europe/Rome:20250712T230000
DTSTAMP:20260424T013033
CREATED:20250710T080720Z
LAST-MODIFIED:20250710T080725Z
UID:16030-1752361200-1752361200@ormea.info
SUMMARY:Night Disco Party
DESCRIPTION:Notte di musica e divertimento alla Bocciofila di Ormea\nVenerdì 12 luglio\, la Bocciofila di Ormea si trasforma in una vera e propria discoteca sotto le stelle con il Disco Night Party! \nA partire dalle ore 23.00\, musica\, luci e atmosfera da club accoglieranno residenti e turisti per una serata gratuita all’insegna del divertimento e della socialità. Un’occasione imperdibile per vivere l’estate ormeasca in una veste nuova\, tra drink\, musica e balli fino a notte fonda. \nEntrata libera.
URL:https://ormea.info/evento/night-disco-party/10/2025/
LOCATION:Bocciofila di Ormea\, Località Borganza\, Ormea\, CN\, 12078\, Italy
CATEGORIES:Discoteca
ATTACH;FMTTYPE=image/jpeg:https://ormea.info/wp-content/uploads/2025/07/Neon-Rosa-Divertente-Discoteca.jpg
END:VEVENT
END:VCALENDAR