BEGIN:VCALENDAR
VERSION:2.0
PRODID:-//Ormea.info - ECPv6.1.4//NONSGML v1.0//EN
CALSCALE:GREGORIAN
METHOD:PUBLISH
X-ORIGINAL-URL:https://ormea.info
X-WR-CALDESC:Eventi per Ormea.info
REFRESH-INTERVAL;VALUE=DURATION:PT1H
X-Robots-Tag:noindex
X-PUBLISHED-TTL:PT1H
BEGIN:VTIMEZONE
TZID:Europe/Rome
BEGIN:DAYLIGHT
TZOFFSETFROM:+0100
TZOFFSETTO:+0200
TZNAME:CEST
DTSTART:20250330T010000
END:DAYLIGHT
BEGIN:STANDARD
TZOFFSETFROM:+0200
TZOFFSETTO:+0100
TZNAME:CET
DTSTART:20251026T010000
END:STANDARD
END:VTIMEZONE
BEGIN:VEVENT
DTSTART;VALUE=DATE:20250706
DTEND;VALUE=DATE:20250720
DTSTAMP:20260423T213135
CREATED:20250315T121840Z
LAST-MODIFIED:20250315T122738Z
UID:15783-1751760000-1752969599@ormea.info
SUMMARY:Rocco Rainbow Woman Camp
DESCRIPTION:Rocco Rainbow Woman Summer Camp: un’esperienza di calcio tutta al femminile!\nL’ASD Ormea\, in collaborazione con ASD Sport-Time\, organizza la quinta edizione del Rocco Rainbow Woman Summer Camp\, un’esperienza unica dedicata al calcio femminile guidata da Mister Rocco Vitale. L’evento si svolgerà dal 6 al 12 luglio 2025 (1° Settimana) e dal 13 al 19 luglio 2025 (2° settimana)  a Ormea\, offrendo alle partecipanti l’opportunità di allenarsi con tecnici qualificati e di vivere una settimana all’insegna dello sport\, della crescita personale e del divertimento. \nAperto a bambine e ragazze dai 5 ai 18 anni\, il camp propone un programma completo che include allenamenti mirati\, attività ludiche\, escursioni e momenti di socializzazione. Le giovani calciatrici potranno sviluppare le loro capacità tecniche e motorie sotto la guida di istruttori certificati UEFA e CONI\, in un ambiente accogliente e stimolante. \nIl Rocco Rainbow Woman Summer Camp è più di un semplice ritiro sportivo: è un’opportunità per scoprire il calcio in un’atmosfera di inclusione e amicizia\, immersi nella splendida cornice di Ormea. \nFormule Day Camp e Full Camp (1 o 2 settimane). \nIscrizioni e informazioni al 347 5120829
URL:https://ormea.info/evento/rainbow-woman-camp/15/2025/
LOCATION:Area Sportiva Borganza\, Località Borganza\, Ormea\, CN\, 12078\, Italy
CATEGORIES:Summer Camp
ATTACH;FMTTYPE=image/jpeg:https://ormea.info/wp-content/uploads/2025/03/rainbow-woman-camp-360.jpg
ORGANIZER;CN="ASD%20Ormea%20Calcio":MAILTO:asdormea@gmail.com
END:VEVENT
BEGIN:VEVENT
DTSTART;VALUE=DATE:20250713
DTEND;VALUE=DATE:20250714
DTSTAMP:20260423T213135
CREATED:20250214T112552Z
LAST-MODIFIED:20250404T145735Z
UID:15617-1752364800-1752451199@ormea.info
SUMMARY:Mercatino dell'antiquariato
DESCRIPTION:Nella suggestiva e centralissima via Roma nel centro storico di Ormea tornano i Mercatini dell’Antiquariato\, un appuntamento imperdibile per gli amanti del passato\, del collezionismo e degli oggetti unici. Tra le bancarelle\, si potranno trovare mobili d’epoca\, libri antichi\, ceramiche\, stampe\, monete\, oggetti in ferro battuto e tante curiosità che raccontano storie di altri tempi. \nOltre all’antiquariato\, il mercatino ospiterà anche un’ampia selezione di prodotti tipici alimentari\, tra cui formaggi di montagna\, mieli locali\, confetture artigianali e salumi tradizionali\, per un’esperienza che unisce la passione per il bello con i sapori autentici del territorio. \nUn’occasione perfetta per passeggiare tra le vie di Ormea alla ricerca di pezzi rari e particolari\, immergendosi in un’atmosfera ricca di fascino e tradizione. \nPer partecipare contattare su whatsapp il (+39) 338 6571 053.
URL:https://ormea.info/evento/mercatino-dellantiquariato-13-7-25/14/2025/
LOCATION:Via Roma\, Via Roma\, Ormea\, 12078\, Italy
CATEGORIES:Mercatini
ATTACH;FMTTYPE=image/jpeg:https://ormea.info/wp-content/uploads/2025/02/mercatini-antiquariato.jpeg
END:VEVENT
BEGIN:VEVENT
DTSTART;TZID=Europe/Rome:20250713T110000
DTEND;TZID=Europe/Rome:20250713T110000
DTSTAMP:20260423T213135
CREATED:20250710T090041Z
LAST-MODIFIED:20250710T090245Z
UID:16034-1752404400-1752404400@ormea.info
SUMMARY:Raduno Vespe d'Epoca
DESCRIPTION:Domenica 13 luglio non perdere l’emozionante Raduno Vespe d’Epoca a Viozene\, alle ore 11:00! \nOrganizzato da Pro Loco Viozene con la partecipazione del gruppo “VespAntegati”. Porta la tua Vespa d’epoca e unisciti alla festa! Un evento imperdibile per gli amanti delle due ruote. Ti aspettiamo!
URL:https://ormea.info/evento/raduno-vespe-depoca/10/2025/
LOCATION:Viozene\, Viozene\, CN\, 12078\, Italy
CATEGORIES:Manifestazioni
ATTACH;FMTTYPE=image/jpeg:https://ormea.info/wp-content/uploads/2025/07/raduno-vespe.jpg
END:VEVENT
END:VCALENDAR