BEGIN:VCALENDAR
VERSION:2.0
PRODID:-//Ormea.info - ECPv6.1.4//NONSGML v1.0//EN
CALSCALE:GREGORIAN
METHOD:PUBLISH
X-ORIGINAL-URL:https://ormea.info
X-WR-CALDESC:Eventi per Ormea.info
REFRESH-INTERVAL;VALUE=DURATION:PT1H
X-Robots-Tag:noindex
X-PUBLISHED-TTL:PT1H
BEGIN:VTIMEZONE
TZID:Europe/Rome
BEGIN:DAYLIGHT
TZOFFSETFROM:+0100
TZOFFSETTO:+0200
TZNAME:CEST
DTSTART:20250330T010000
END:DAYLIGHT
BEGIN:STANDARD
TZOFFSETFROM:+0200
TZOFFSETTO:+0100
TZNAME:CET
DTSTART:20251026T010000
END:STANDARD
END:VTIMEZONE
BEGIN:VEVENT
DTSTART;VALUE=DATE:20250706
DTEND;VALUE=DATE:20250720
DTSTAMP:20260423T112225
CREATED:20250315T121840Z
LAST-MODIFIED:20250315T122738Z
UID:15783-1751760000-1752969599@ormea.info
SUMMARY:Rocco Rainbow Woman Camp
DESCRIPTION:Rocco Rainbow Woman Summer Camp: un’esperienza di calcio tutta al femminile!\nL’ASD Ormea\, in collaborazione con ASD Sport-Time\, organizza la quinta edizione del Rocco Rainbow Woman Summer Camp\, un’esperienza unica dedicata al calcio femminile guidata da Mister Rocco Vitale. L’evento si svolgerà dal 6 al 12 luglio 2025 (1° Settimana) e dal 13 al 19 luglio 2025 (2° settimana)  a Ormea\, offrendo alle partecipanti l’opportunità di allenarsi con tecnici qualificati e di vivere una settimana all’insegna dello sport\, della crescita personale e del divertimento. \nAperto a bambine e ragazze dai 5 ai 18 anni\, il camp propone un programma completo che include allenamenti mirati\, attività ludiche\, escursioni e momenti di socializzazione. Le giovani calciatrici potranno sviluppare le loro capacità tecniche e motorie sotto la guida di istruttori certificati UEFA e CONI\, in un ambiente accogliente e stimolante. \nIl Rocco Rainbow Woman Summer Camp è più di un semplice ritiro sportivo: è un’opportunità per scoprire il calcio in un’atmosfera di inclusione e amicizia\, immersi nella splendida cornice di Ormea. \nFormule Day Camp e Full Camp (1 o 2 settimane). \nIscrizioni e informazioni al 347 5120829
URL:https://ormea.info/evento/rainbow-woman-camp/15/2025/
LOCATION:Area Sportiva Borganza\, Località Borganza\, Ormea\, CN\, 12078\, Italy
CATEGORIES:Summer Camp
ATTACH;FMTTYPE=image/jpeg:https://ormea.info/wp-content/uploads/2025/03/rainbow-woman-camp-360.jpg
ORGANIZER;CN="ASD%20Ormea%20Calcio":MAILTO:asdormea@gmail.com
END:VEVENT
BEGIN:VEVENT
DTSTART;TZID=Europe/Rome:20250719T090000
DTEND;TZID=Europe/Rome:20250719T090000
DTSTAMP:20260423T112225
CREATED:20250626T165411Z
LAST-MODIFIED:20250714T142043Z
UID:15947-1752915600-1752915600@ormea.info
SUMMARY:Passeggiata naturalistica Quarzina-Lago del Lao
DESCRIPTION:Passeggiata musicale-naturalistica da Quarzina al lago del Lao\nUnire natura\, cultura e tradizione in un’unica esperienza: è questa la proposta della Passeggiata naturalistica musicale sul percorso degli Aboi\, in programma sabato 19 luglio 2025 a Ormea\, con partenza alle ore 9:00 dalla Balconata di Ormea. \nL’iniziativa si inserisce nel progetto “Patoci e Mascarei – Riti\, miti e maschere”\, e propone una camminata aperta a tutti\, con guida naturalistica\, musica popolare itinerante e pranzo al sacco condiviso. L’escursione si svolge su uno dei percorsi più suggestivi del territorio ormeasco: il sentiero degli Aboi\, che si snoda tra boschi freschi e panorami mozzafiato. \nProtagonisti della giornata saranno Adelmo Seno\, voce narrante e profondo conoscitore delle tradizioni locali\, ed Enzo Bologna\, fisarmonicista che accompagnerà i partecipanti con melodie della cultura popolare piemontese\, rendendo l’esperienza ancora più coinvolgente. \nL’evento è gratuito e fa parte delle attività finanziate dal progetto PNRR “Borghi e Castelli lungo la Ferrovia del Tanaro”\, promosso dal Distretto Diffuso del Commercio “Alto Tanaro”. \nIl programma dettagliato sarà disponibile a breve. Nel frattempo\, scarpe comode e voglia di camminare: vi aspetta una giornata di emozioni autentiche nel cuore della natura ormeasca. \nProgramma: \n\nOre 9\,30 concentramento presso il Rifugio Quarzina\, accolti dalle fisarmoniche\nOre 10 partenza per il lago del Lao: Silvana Michelis ci illustrerà la grandissima ricchezza della della flora locale di cui è grande esperta. Ezio Michelis ci racconterà la storia degli ABOI.\nOre 11 sosta musicale presso la chiesetta di San Giovanni con la fisarmonica di Adelmo Seno e l’organetto di Enzo Bologna.\nOre 11:30 ripresa del cammino verso il lago del Lao.\nOre 12 ritorno alla chiesetta di San Giovanni.\nOre 13 pranzo al sacco\, musica\, canti\, balli e relax.\n\n \n 
URL:https://ormea.info/evento/passeggiata-naturalistica-quarzina-lago-del-lao/26/2025/
LOCATION:Quarzina\, Frazione Quarzina\, Ormea\, Cuneo\, 12078\, Italy
CATEGORIES:Escursioni
ATTACH;FMTTYPE=image/jpeg:https://ormea.info/wp-content/uploads/2025/06/passeggiata-naturalistica-quarzina-lago-del-lao.jpg
ORGANIZER;CN="Associazione%20Culturale%20Ulmeta":MAILTO:associazione.ulmeta@gmail.com
END:VEVENT
BEGIN:VEVENT
DTSTART;TZID=Europe/Rome:20250719T153000
DTEND;TZID=Europe/Rome:20250719T153000
DTSTAMP:20260423T112225
CREATED:20250714T142453Z
LAST-MODIFIED:20250714T142945Z
UID:16048-1752939000-1752939000@ormea.info
SUMMARY:Riscoprire l’Alta Valle Tanaro: I Castelli di Bagnasco\, Nucetto e Ormea
DESCRIPTION:Sabato 19 luglio  ore 15.30 nella Sala Conferenze ex Scuole\, via Bassi\, presentazione della video-narrazione “Riscoprire l’Alta Valle Tanaro. I Castelli di Bagnasco\, Nucetto e Ormea”\, un progetto multimediale dedicato alla valorizzazione di tre castelli simbolo del territorio. Ingresso gratuito. \n\nInterverranno Monica Girardi (F.T. Studio) ed Enrico Lusso (UniTo) \nPromosso dal Ministero della Cultura nell’ambito del PNRR “Borghi e Castelli lungo la Ferrovia del Tanaro”\, il lavoro unisce ricerca storica e archeologica\, ricostruzioni 3D e modellazioni virtuali per raccontare l’identità e l’evoluzione architettonica dei siti. \nFocus speciale sul Castello di Ormea\, recentemente restaurato e dotato di percorso sopraelevato e illuminazione. \n\nA seguire\, visita guidata gratuita al castello alle ore 16.30.
URL:https://ormea.info/evento/riscoprire-lalta-valle-tanaro-i-castelli-di-bagnasco-nucetto-e-ormea/14/2025/
LOCATION:Saletta multimediale vecchie scuole\, Via Bassi 31\, Ormea\, CN\, 12078\, Italy
CATEGORIES:Incontri
ATTACH;FMTTYPE=image/jpeg:https://ormea.info/wp-content/uploads/2025/07/riscoprire-valle-tanaro.jpeg
END:VEVENT
END:VCALENDAR