BEGIN:VCALENDAR
VERSION:2.0
PRODID:-//Ormea.info - ECPv6.1.4//NONSGML v1.0//EN
CALSCALE:GREGORIAN
METHOD:PUBLISH
X-WR-CALNAME:Ormea.info
X-ORIGINAL-URL:https://ormea.info
X-WR-CALDESC:Eventi per Ormea.info
REFRESH-INTERVAL;VALUE=DURATION:PT1H
X-Robots-Tag:noindex
X-PUBLISHED-TTL:PT1H
BEGIN:VTIMEZONE
TZID:Europe/Rome
BEGIN:DAYLIGHT
TZOFFSETFROM:+0100
TZOFFSETTO:+0200
TZNAME:CEST
DTSTART:20250330T010000
END:DAYLIGHT
BEGIN:STANDARD
TZOFFSETFROM:+0200
TZOFFSETTO:+0100
TZNAME:CET
DTSTART:20251026T010000
END:STANDARD
END:VTIMEZONE
BEGIN:VEVENT
DTSTART;TZID=Europe/Rome:20250723T103000
DTEND;TZID=Europe/Rome:20250723T114500
DTSTAMP:20260422T210410
CREATED:20250719T103729Z
LAST-MODIFIED:20250719T103828Z
UID:16084-1753266600-1753271100@ormea.info
SUMMARY:Hip Hop Lab
DESCRIPTION:Hip Hop Lab: due mattinate di danza gratuita per bambini e ragazzi a Ormea\nDue appuntamenti estivi dedicati al movimento\, alla musica e al divertimento per i più giovani: arriva a Ormea l’Hip Hop Lab\, un laboratorio gratuito di danza urbana rivolto a bambini e ragazzi dai 7 ai 12 anni. \nMercoledì 23 luglio e mercoledì 6 agosto\, dalle ore 10:30 alle 11:45\, presso la Sala Danza del Palazzo Ex Scuole in via Dr. Bassi 31\, i partecipanti potranno muovere i primi passi nel mondo dell’hip hop con un’attività dinamica\, inclusiva e adatta a tutti\, realizzata in collaborazione con Doppie Punte – Spazio alla Danza. \nIl laboratorio fa parte del progetto Ri-generazioni – L’ex scuola che rivive\, sostenuto da Fondazione CRC – Spazio Giovani\, e nasce con l’obiettivo di offrire opportunità educative e ricreative gratuite nel periodo estivo. \nLa partecipazione è gratuita\, ma i posti sono limitati: prenotazioni e info al numero 389 2559948 \nUn’occasione per divertirsi\, imparare e fare nuove amicizie… a ritmo di musica!
URL:https://ormea.info/evento/hip-hop-lab/19/2025/
LOCATION:Spazio giovani “Ri-generazioni”\, Via Bassi 31\, Ormea\, CN\, 12078\, Italy
CATEGORIES:Danza
ATTACH;FMTTYPE=image/jpeg:https://ormea.info/wp-content/uploads/2025/07/hip-hop-lab.jpg
ORGANIZER;CN="Associazione%20L%27Ippo-Creattivo":MAILTO:lippocreattivo@yahoo.com
END:VEVENT
BEGIN:VEVENT
DTSTART;TZID=Europe/Rome:20250723T170000
DTEND;TZID=Europe/Rome:20250723T170000
DTSTAMP:20260422T210410
CREATED:20250712T085132Z
LAST-MODIFIED:20250712T094232Z
UID:16041-1753290000-1753290000@ormea.info
SUMMARY:Incontri con gli autori: Maurizio Galeazzo
DESCRIPTION:Leggo e ci ragiono: Maurizio Galeazzo – La lettera perduta\nA Ormea\, in Piazza Nani il 23 luglio alle 17\, Maurizio Galeazzo presenta “La Lettera Perduta”. Un romanzo che unisce vita privata e politica. Non mancare! \nGenova\, febbraio 1948. Il ventitreenne ed ex partigiano Giovanni Basile è costretto a fuggire in Argentina dopo la sua attiva partecipazione nell’uccisione di un dirigente dell’Ansaldo\, responsabile di aver contribuito a stilare l’elenco degli operai da deportare a Mauthausen. L’uomo è costretto così ad abbandonare la madre Agata\, la giovane moglie Anna e il figlio Marco\, di soli due anni. Pochi mesi dopo essere giunto in Sudamerica\, Giovanni scrive una lettera alla moglie\, chiedendole di raggiungerlo. Subito dopo averla spedita\, essendo stato riconosciuto\, è però nuovamente costretto alla fuga. Raggiunto un piccolo paese portuale nel sud della Patagonia\, Giovanni decide di rimanervi\, cambiando identità per l’ennesima volta. Da quel momento\, infatti\, diventa per tutti Bruno. Il destino vuole però che la lettera venga perduta e che arrivi nelle mani di Marco dopo ben trentun anni\, nel 1979. Marco decide così di recarsi in Argentina alla ricerca del padre. La lettera perduta è un romanzo che si divide a metà tra la vita privata e quella politica\, raccontando gli anni difficili del dopoguerra in Italia e la dittatura militare in Argentina.
URL:https://ormea.info/evento/incontri-con-gli-autori-maurizio-galeazzo/12/2025/
LOCATION:CN
CATEGORIES:Presentazione libri
ATTACH;FMTTYPE=image/jpeg:https://ormea.info/wp-content/uploads/2025/07/la-lettera-perduta-maurizio-galeazzo.jpg
END:VEVENT
END:VCALENDAR