BEGIN:VCALENDAR
VERSION:2.0
PRODID:-//Ormea.info - ECPv6.1.4//NONSGML v1.0//EN
CALSCALE:GREGORIAN
METHOD:PUBLISH
X-WR-CALNAME:Ormea.info
X-ORIGINAL-URL:https://ormea.info
X-WR-CALDESC:Eventi per Ormea.info
REFRESH-INTERVAL;VALUE=DURATION:PT1H
X-Robots-Tag:noindex
X-PUBLISHED-TTL:PT1H
BEGIN:VTIMEZONE
TZID:Europe/Rome
BEGIN:DAYLIGHT
TZOFFSETFROM:+0100
TZOFFSETTO:+0200
TZNAME:CEST
DTSTART:20250330T010000
END:DAYLIGHT
BEGIN:STANDARD
TZOFFSETFROM:+0200
TZOFFSETTO:+0100
TZNAME:CET
DTSTART:20251026T010000
END:STANDARD
END:VTIMEZONE
BEGIN:VEVENT
DTSTART;VALUE=DATE:20250724
DTEND;VALUE=DATE:20250804
DTSTAMP:20260419T212502
CREATED:20250719T104907Z
LAST-MODIFIED:20250719T104907Z
UID:16090-1753315200-1754265599@ormea.info
SUMMARY:La gioia del colore
DESCRIPTION:“La gioia del colore”: a Ormea una mostra d’arte contemporanea di Fiorenza Biancheri e Antonio Celia\nDal 24 luglio al 3 agosto\, la Sala delle Meridiane in Via Roma 3 a Ormea ospita la mostra “La gioia del colore”\, una vivace esposizione di opere d’arte contemporanea firmate dagli artisti Fiorenza Biancheri e Antonio Celia. \nAttraverso ritratti intensi\, animali multicolori e fiori esuberanti\, la mostra celebra la forza espressiva del colore in ogni sua forma. Un’occasione imperdibile per immergersi in un mondo visivo ricco di emozioni\, energia e vitalità. \nL’ingresso è libero e la mostra sarà visitabile tutti i giorni. \nPer informazioni: 349 077 2645.
URL:https://ormea.info/evento/la-gioia-del-colore/19/2025/
LOCATION:Sala delle Meridiane\, Via Roma 3\, Ormea\, 12078\, Italy
CATEGORIES:Mostre
ATTACH;FMTTYPE=image/jpeg:https://ormea.info/wp-content/uploads/2025/07/la-gioia-del-colore-24-luglio-3-agosto-Ormea.jpg
END:VEVENT
BEGIN:VEVENT
DTSTART;VALUE=DATE:20250726
DTEND;VALUE=DATE:20250802
DTSTAMP:20260419T212502
CREATED:20250308T140833Z
LAST-MODIFIED:20250702T102308Z
UID:15667-1753488000-1754092799@ormea.info
SUMMARY:Sognatori di mondi - Settimana dedicata ai cantautori genovesi
DESCRIPTION:“Sognatori di mondi” – Settimana dedicata ai cantautori genovesi dal 26 luglio  al 3 agosto 2025 a Ormea (CN) \nCome ogni estate\, l’Associazione Culturale Ulmeta ODV dedica una settimana culturale alla Liguria e ai numerosi turisti provenienti da Imperia e Genova.\nQuest’anno\, dal 26 luglio al 3 agosto\, il tema sarà “I Cantautori della Scuola Genovese”\nUna settimana di musica\, parole\, cinema e incontri con il titolo “Sognatori di mondi” \nSabato 26 luglio – ore 11.00 nella Sala Colombo inaugurazione della Mostra tematica sui cantautori genovesi\nAlle ore 18.00 in Piazza Angelo Nani Alberto Gedda presenterà il suo libro “Musica da fotocamera”\, con interventi musicali del cantautore Marco Stella e del chitarrista Marco Cravero. \nDomenica 27 luglio alle ore 17.00 in Piazza Angelo Nani Lorenzo Beccati\, autore televisivo\, scrittore\, voce storica del Gabibbo e stretto collaboratore di Antonio Ricci\, presenta il suo ultimo lavoro editoriale “La notte delle scimmie” – a seguire conversazione con il pubblico sui cantautori incontrati durante la sua carriera a Mediaset \nDa lunedì 28 a giovedì 31 luglio – Cinema e radio d’epoca\nOgni sera\, in collaborazione con il Nuovo Cinema Ormea\, proiezioni all’aperto di filmati dedicati ai cantautori e alle trasmissioni radiofoniche storiche\, nell’ambito della celebrazione per i 150 anni della radio.\nSarà inoltre visitabile una mostra sulla storia della radio. \nVenerdì 1 agosto – Teatro e comicità\nCarlo Denei\, comico dei Cavalli Marci\, autore di Striscia la Notizia\, cantautore e scrittore presenta: “Festival”\, una brillante e surreale storia di cabarettisti disperati al festival della comicità di Ronciglione \nSabato 2 agosto – Letteratura e ricordi di palcoscenico\nStefano Delfino\, firma storica de La Stampa e per anni Direttore Artistico del teatro estivo di Borgio Verezzi\npresenta il suo libro “Quei mandarini profumano ancora” \nDomenica 3 agosto – Gran finale\nSpettacolo di musica dal vivo\, letture e video proiezioni con Simone Dani\, attore e doppiatore e Giuseppe Caratozzolo\, tastierista\nUna serata conclusiva per rendere omaggio con parole\, suoni e immagini ai grandi sognatori di mondi della canzone d’autore. \nTutte le proiezioni sono a cura del Nuovo Cinema Ormea \nEventi a ingresso libero fino a esaurimento posti
URL:https://ormea.info/evento/settimana-dei-cantautori-liguri-2025/08/2025/
LOCATION:Piazza Nani\, Piazza Angelo Nani\, Ormea\, CN\, 12078\, Italy
CATEGORIES:Concerti,Incontri,Proiezioni
ATTACH;FMTTYPE=image/jpeg:https://ormea.info/wp-content/uploads/2025/03/sognatori-di-mondi-ormea.jpeg
ORGANIZER;CN="Associazione%20Culturale%20Ulmeta":MAILTO:associazione.ulmeta@gmail.com
END:VEVENT
BEGIN:VEVENT
DTSTART;VALUE=DATE:20250801
DTEND;VALUE=DATE:20250803
DTSTAMP:20260419T212502
CREATED:20250717T150534Z
LAST-MODIFIED:20250717T150855Z
UID:16080-1754006400-1754179199@ormea.info
SUMMARY:Pizza sotto le Stelle
DESCRIPTION:Pizza\, musica e stelle: due serate di gusto e divertimento al Parco Pollicino di Ormea\nTornano le serate estive al Parco Pollicino con un doppio appuntamento imperdibile: venerdì 1 e sabato 2 agosto Ormea si accende con Pizza sotto le stelle\, un evento all’insegna del buon cibo\, della musica e dell’allegria. \nA partire dalle ore 19\, si potranno gustare le pizze cotte a legna di Beppe Galliano\, direttamente da La Via del Sale\, in una suggestiva cornice immersa nel verde e sotto il cielo stellato. \nIl programma prevede: \n\nVenerdì 1 agosto – Serata musicale con animazione a cura di Gino Bottero\, adatta a grandi e piccini.\nSabato 2 agosto – Concerto live degli A.S.S.E.N.Z.I.O. Band e a seguire disco music con DJ Guido per ballare sotto le stelle.\n\nUn’occasione perfetta per trascorrere due serate d’estate in compagnia\, tra sapori autentici e tanta buona musica. \nInfo e prenotazioni: 335 5209707 (Stefano)
URL:https://ormea.info/evento/pizza-sotto-le-stelle/17/2025/
LOCATION:Parco Giochi Pollicino\, Via Orti della Rana 60\, Ormea\, CN\, 12078\, Italy
CATEGORIES:Concerti,Discoteca,Sagre
ATTACH;FMTTYPE=image/jpeg:https://ormea.info/wp-content/uploads/2025/07/pizza-sotto-le-stelle.jpg
END:VEVENT
BEGIN:VEVENT
DTSTART;VALUE=DATE:20250801
DTEND;VALUE=DATE:20250814
DTSTAMP:20260419T212502
CREATED:20250702T144440Z
LAST-MODIFIED:20250702T144440Z
UID:15987-1754006400-1755129599@ormea.info
SUMMARY:Mostra fotografica Montagne e Colori
DESCRIPTION:Dal 1° al 13 agosto 2025\, nei locali della vecchia porta di Ormea in Piazza San Martino\, sarà possibile visitare la mostra fotografica di Dino Pelazza\, fotografo appassionato del territorio e delle sue sfumature più suggestive. \nLa mostra sarà aperta tutti i giorni dalle 10:30 alle 12:30 e dalle 17:30 alle 19:00 e proporrà scatti che raccontano la bellezza dei paesaggi di Ormea\, i giochi di luce tra le montagne e i colori unici delle nostre stagioni. \nUn’occasione da non perdere per chi ama la fotografia e desidera riscoprire Ormea attraverso l’obiettivo sensibile e attento di un autore che ne conosce l’anima. \nPer informazioni: 349 7629868
URL:https://ormea.info/evento/mostra-fotografica-montagne-e-colori/02/2025/
CATEGORIES:Mostre
ATTACH;FMTTYPE=image/jpeg:https://ormea.info/wp-content/uploads/2025/07/locandina-a3-360.jpg
END:VEVENT
BEGIN:VEVENT
DTSTART;TZID=Europe/Rome:20250801T160000
DTEND;TZID=Europe/Rome:20250801T160000
DTSTAMP:20260419T212502
CREATED:20250310T170548Z
LAST-MODIFIED:20250802T124917Z
UID:15756-1754064000-1754064000@ormea.info
SUMMARY:Mini Olimpiadi 2025
DESCRIPTION:Tornano a Ormea le Mini Olimpiadi “in ricordo di Luca”\, evento sportivo gratuito dedicato ai bambini\, giunto alla sua quarta edizione. L’iniziativa si terrà venerdì 1 e sabato 9 agosto\, con un ricco programma tra sport\, giochi e partecipazione straordinaria. \nVenerdì 1 agostoAlle ore 16:00 ritrovo in piazzetta Teco per la cerimonia di apertura\, seguita dalla sfilata per via Roma\, dal Mini Maratona e dalla premiazione.Parteciperà Marta Bassino\, atleta e testimonial del Cuneese. \nSabato 9 agostoAlle ore 14:00 ritrovo presso l’area sportiva di Borganza: al via le gare per tutte le categorie\, dal 2021 al 2011\, con prove di corsa\, salti\, lanci e molto altro.A seguire\, la premiazione con i ragazzi del Centro Aquiloni ODV. \nEvento gratuito. Info e iscrizioni: 389 2559948 (Giorgia). \nL’evento è organizzato dall’Associazione culturale L’Ippo – CreAttivo con il patrocinio del Comune di Ormea\, il sostegno di Fondazione CRC e l’impegno di Atl del Cuneese.
URL:https://ormea.info/evento/mini-olimpiadi-2025/10/2025/
LOCATION:Area Sportiva Borganza\, Località Borganza\, Ormea\, CN\, 12078\, Italy
CATEGORIES:Bambini,Manifestazioni,Sport
ATTACH;FMTTYPE=image/jpeg:https://ormea.info/wp-content/uploads/2025/03/miniolimpiadi.jpg
ORGANIZER;CN="Associazione%20L%27Ippo-Creattivo":MAILTO:lippocreattivo@yahoo.com
END:VEVENT
END:VCALENDAR