BEGIN:VCALENDAR
VERSION:2.0
PRODID:-//Ormea.info - ECPv6.1.4//NONSGML v1.0//EN
CALSCALE:GREGORIAN
METHOD:PUBLISH
X-WR-CALNAME:Ormea.info
X-ORIGINAL-URL:https://ormea.info
X-WR-CALDESC:Eventi per Ormea.info
REFRESH-INTERVAL;VALUE=DURATION:PT1H
X-Robots-Tag:noindex
X-PUBLISHED-TTL:PT1H
BEGIN:VTIMEZONE
TZID:Europe/Rome
BEGIN:DAYLIGHT
TZOFFSETFROM:+0100
TZOFFSETTO:+0200
TZNAME:CEST
DTSTART:20250330T010000
END:DAYLIGHT
BEGIN:STANDARD
TZOFFSETFROM:+0200
TZOFFSETTO:+0100
TZNAME:CET
DTSTART:20251026T010000
END:STANDARD
END:VTIMEZONE
BEGIN:VEVENT
DTSTART;VALUE=DATE:20250808
DTEND;VALUE=DATE:20250829
DTSTAMP:20260419T212453
CREATED:20250729T145028Z
LAST-MODIFIED:20250729T145041Z
UID:16135-1754611200-1756425599@ormea.info
SUMMARY:Incontri: Le opere di Nora Delgado
DESCRIPTION:Le Opere di Nora Delgado Illuminano il Palazzo delle Meridiane a Ormea\nOrmea si prepara ad accogliere “Incontri: Le opere di Nora Delgado”\, mostra che dal 8 al 28 agosto 2025\, presso il Palazzo delle Meridiane farà da cornice alle creazioni di Nora Delgado\, offrendo un’opportunità unica per immergersi nel suo universo artistico. L’inaugurazione è fissata per venerdì 8 agosto 2025\, occasione perfetta per incontrare l’artista. La mostra sarà aperta tutti i giorni in due momenti distinti: dalle ore 10:00 alle 12:00 e\, a seguire\, dalle 15:30 alle 18:00. \nLa mostra è organizzata dall’Associazione Culturale Ulmeta ODV. \nL’evento è sostenuto con il patrocinio del Comune di Ormea e Borghi Autentici d’Italia. \nNon mancate a questo appuntamento con l’arte e la cultura. “Incontri: Le opere di Nora Delgado” vi aspetta al Palazzo delle Meridiane di Ormea per un viaggio nel mondo dell’arte contemporanea.
URL:https://ormea.info/evento/incontri-le-opere-di-nora-delgado/29/2025/
CATEGORIES:Mostre
ATTACH;FMTTYPE=image/jpeg:https://ormea.info/wp-content/uploads/2025/07/incontri-nora-deglado.jpg
END:VEVENT
BEGIN:VEVENT
DTSTART;VALUE=DATE:20250809
DTEND;VALUE=DATE:20250822
DTSTAMP:20260419T212453
CREATED:20250729T142334Z
LAST-MODIFIED:20250729T142505Z
UID:16127-1754697600-1755820799@ormea.info
SUMMARY:Ormea Football Summer Camp 2025
DESCRIPTION:Ormea Football Summer Camp 2025: allenamenti e divertimento per ragazzi e ragazze\nDal 9 al 21 agosto 2025 torna a Ormea l’appuntamento estivo dedicato ai giovani appassionati di calcio: l’Ormea Football Summer Camp\, organizzato da A.S.D. Ormea Calcio in collaborazione con ACSI. \nUna o due settimane di allenamenti\, giochi e attività all’aria aperta\, pensati per ragazzi e ragazze dai 6 ai 14 anni che vogliono migliorare la propria tecnica calcistica e vivere un’esperienza di sport e amicizia nel cuore delle Alpi Liguri. \nIl camp non è solo calcio: è condivisione\, crescita personale e divertimento in un ambiente sano e stimolante\, seguito da istruttori qualificati. \nPer iscrizioni e informazioni: \nTel. 333 8464891 – 328 6250153
URL:https://ormea.info/evento/ormea-football-summer-camp-2025/29/2025/
LOCATION:Campo Sportitvo di Ormea\, Località Borganza\, Ormea\, CN\, 12078\, Italy
CATEGORIES:Bambini,Sport
ATTACH;FMTTYPE=image/jpeg:https://ormea.info/wp-content/uploads/2025/07/summer-camp-2025-ormea.jpg
ORGANIZER;CN="ASD%20Ormea%20Calcio":MAILTO:asdormea@gmail.com
END:VEVENT
BEGIN:VEVENT
DTSTART;TZID=Europe/Rome:20250820T163000
DTEND;TZID=Europe/Rome:20250820T163000
DTSTAMP:20260419T212453
CREATED:20250821T093043Z
LAST-MODIFIED:20250821T093048Z
UID:16191-1755707400-1755707400@ormea.info
SUMMARY:Incontri con gli autori: Graziella Belli
DESCRIPTION:Mercoledì 20 agosto alle ore 16:30\, presso il locale Ballo di Viozene\, la scrittrice Graziella Belli presenterà il suo libro “I campi di patate fanno le onde. Storie di amicizia e guerra lungo il Tanaro”. \nUn romanzo di formazione che\, attraverso episodi intensi e toccanti\, racconta il passaggio dall’infanzia all’adolescenza\, i legami familiari e di amicizia\, fino alle difficoltà del secondo conflitto bellico. Una narrazione capace di dare voce anche alle piccole cose quotidiane\, rendendo vivi luoghi e personaggi. \nNel corso dell’incontro\, l’autrice dialogherà con Roberto Vassalini\, offrendo spunti di riflessione sulla memoria storica e sul valore delle relazioni. \nUn’occasione speciale per immergersi in una storia che nasce dal territorio e ne custodisce le radici. \n\n\nIngresso libero
URL:https://ormea.info/evento/incontri-con-gli-autori-graziella-belli/21/2025/
LOCATION:Viozene\, Viozene\, CN\, 12078\, Italy
CATEGORIES:Presentazione libri
ATTACH;FMTTYPE=image/jpeg:https://ormea.info/wp-content/uploads/2025/08/i-campi-di-patate-fanno-le-onde.jpg
END:VEVENT
BEGIN:VEVENT
DTSTART;TZID=Europe/Rome:20250820T173000
DTEND;TZID=Europe/Rome:20250820T173000
DTSTAMP:20260419T212453
CREATED:20250714T150111Z
LAST-MODIFIED:20250714T150200Z
UID:16063-1755711000-1755711000@ormea.info
SUMMARY:Rapporto Montagne Italia 2025
DESCRIPTION:Mercoledì 20 agosto alle ore 17:30 nella Sala Conferenze delle vecchie scuole (via Bassi)\n \nPresentazione del Rapporto Montagne Italia 2025\nIstituzioni\, Movimenti\, Innovazioni. Le Green Community e le sfide dei territori \nUn importante momento di confronto sul futuro delle aree montane italiane\, con focus su sviluppo sostenibile\, innovazione e coesione territoriale. \nIntervengono:\n \nGiorgio Ferraris\, Sindaco di Ormea\nRoberto Colombero\, Presidente UNCEM Piemonte\nMarco Bussone\, Presidente nazionale UNCEM \nEvento promosso da UNCEM\, Progetto ITALIAE\, Green Communities\, con il sostegno del Dipartimento della Funzione Pubblica e dell’Unione Europea. \nIngresso libero
URL:https://ormea.info/evento/rapporto-montagne-italia-2025/14/2025/
LOCATION:Saletta multimediale vecchie scuole\, Via Bassi 31\, Ormea\, CN\, 12078\, Italy
CATEGORIES:Incontri,Natura
ATTACH;FMTTYPE=image/jpeg:https://ormea.info/wp-content/uploads/2025/07/rapporto-montagna-2025-ormea.jpeg
END:VEVENT
END:VCALENDAR