BEGIN:VCALENDAR
VERSION:2.0
PRODID:-//Ormea.info - ECPv6.1.4//NONSGML v1.0//EN
CALSCALE:GREGORIAN
METHOD:PUBLISH
X-WR-CALNAME:Ormea.info
X-ORIGINAL-URL:https://ormea.info
X-WR-CALDESC:Eventi per Ormea.info
REFRESH-INTERVAL;VALUE=DURATION:PT1H
X-Robots-Tag:noindex
X-PUBLISHED-TTL:PT1H
BEGIN:VTIMEZONE
TZID:Europe/Rome
BEGIN:DAYLIGHT
TZOFFSETFROM:+0100
TZOFFSETTO:+0200
TZNAME:CEST
DTSTART:20260329T010000
END:DAYLIGHT
BEGIN:STANDARD
TZOFFSETFROM:+0200
TZOFFSETTO:+0100
TZNAME:CET
DTSTART:20261025T010000
END:STANDARD
END:VTIMEZONE
BEGIN:VEVENT
DTSTART;VALUE=DATE:20260606
DTEND;VALUE=DATE:20260608
DTSTAMP:20260421T024734
CREATED:20260420T083607Z
LAST-MODIFIED:20260420T083657Z
UID:16476-1780704000-1780876799@ormea.info
SUMMARY:Corpus Domini
DESCRIPTION:Un tappeto di petali e ghirlande: dal 5 al 7 giugno Ormea celebra la sua festa più sentita\nC’è un momento dell’anno in cui il tempo a Ormea sembra fermarsi per lasciare spazio alla bellezza e alla devozione. È il weekend del Corpus Domini\, quando il centro storico — il celebre borgo a forma di cuore — si trasforma in un giardino a cielo aperto\, profumato e coloratissimo. \nLa Tradizione del MaggiociondoloIl protagonista indiscusso è il maggiociondolo\, i cui fiori gialli vengono intrecciati con sapienza millenaria per creare le lunghe ghirlande che decorano i “trevi” (i vicoli) e l’arteria principale\, Via Roma. Questa usanza\, portata avanti con orgoglio dai residenti\, trasforma ogni angolo in uno scorcio da fiaba. \nIl Programma 2026I festeggiamenti di quest’anno offrono un percorso che unisce la manualità della tradizione allo spettacolo: \n\nVenerdì 5 giugno (ore 15:00): Presso le ex scuole di Ormea inizia la preparazione delle ghirlande. Un momento di comunità aperto a chi vuole scoprire i segreti di questa antica arte.\nSabato 6 giugno (ore 15:00): È il momento dell’Inghirlandamento di Via Roma. La via principale viene addobbata con chilometri di fiori\, preparando la scena per la solenne celebrazione della domenica.\nDomenica 7 giugno (ore 22:00): Il gran finale con lo Spettacolo Pirotecnico. I fuochi d’artificio illumineranno il cielo sopra Piazza San Martino e il Colle di San Mauro\, chiudendo in bellezza la rassegna “Il Cuore della Montagna”.\n\nVi aspettiamo a Ormea per vivere insieme un’esperienza autentica\, dove il profumo della montagna incontra il calore della nostra gente.
URL:https://ormea.info/evento/corpus-domini-2/20/2026/
LOCATION:Ormea\, Ormea\, CN\, 12078\, Italy
CATEGORIES:Festa patronale,Manifestazioni
END:VEVENT
BEGIN:VEVENT
DTSTART;VALUE=DATE:20260614
DTEND;VALUE=DATE:20260615
DTSTAMP:20260421T024734
CREATED:20260310T133956Z
LAST-MODIFIED:20260310T140700Z
UID:16433-1781395200-1781481599@ormea.info
SUMMARY:Mercatino dell'antiquariato
DESCRIPTION:Nella suggestiva e centralissima via Roma nel centro storico di Ormea tornano i Mercatini dell’Antiquariato\, un appuntamento imperdibile per gli amanti del passato\, del collezionismo e degli oggetti unici. Tra le bancarelle\, si potranno trovare mobili d’epoca\, libri antichi\, ceramiche\, stampe\, monete\, oggetti in ferro battuto e tante curiosità che raccontano storie di altri tempi. \nOltre all’antiquariato\, il mercatino ospiterà anche un’ampia selezione di prodotti tipici alimentari\, tra cui formaggi di montagna\, mieli locali\, confetture artigianali e salumi tradizionali\, per un’esperienza che unisce la passione per il bello con i sapori autentici del territorio. \nUn’occasione perfetta per passeggiare tra le vie di Ormea alla ricerca di pezzi rari e particolari\, immergendosi in un’atmosfera ricca di fascino e tradizione. \nPer partecipare contattare su whatsapp il (+39) 338 6571 053.
URL:https://ormea.info/evento/mercatino-dellantiquariato-14-6-2026/10/2026/
LOCATION:Via Roma\, Via Roma\, Ormea\, 12078\, Italy
CATEGORIES:Mercatini
ATTACH;FMTTYPE=image/jpeg:https://ormea.info/wp-content/uploads/2026/03/mercatini-antiquariato-ormea-2026.jpg
END:VEVENT
BEGIN:VEVENT
DTSTART;VALUE=DATE:20260628
DTEND;VALUE=DATE:20260629
DTSTAMP:20260421T024734
CREATED:20260310T141354Z
LAST-MODIFIED:20260310T141354Z
UID:16441-1782604800-1782691199@ormea.info
SUMMARY:Mercatino dell'artigianato
DESCRIPTION:Nella centralissima Via Roma\, tornano i Mercatini del Cuore con il mercatino dell’Artigianato\, un appuntamento speciale dedicato all’amore\, alla creatività e ai sapori del territorio. Artigiani e produttori locali esporranno le loro creazioni uniche\, realizzate con passione e maestria: gioielli fatti a mano\, oggetti in legno\, ceramiche artistiche\, tessuti decorati e tante altre idee regalo. \nOltre all’artigianato\, i visitatori potranno trovare un’ampia selezione di prodotti tipici alimentari\, dalle confetture ai mieli locali\, dai formaggi di montagna ai salumi tradizionali\, senza dimenticare biscotti e dolci artigianali. Un viaggio tra sapori autentici e genuini\, perfetti per un regalo speciale o per arricchire la propria tavola con eccellenze locali. \nPasseggiando tra le bancarelle\, sarà possibile immergersi in un’atmosfera romantica e accogliente. \nPer partecipare contattare su whatsapp il (+39) 338 6571 053.
URL:https://ormea.info/evento/mercatino-artigianato-28-giugno/10/2026/
LOCATION:Via Roma\, Via Roma\, Ormea\, 12078\, Italy
CATEGORIES:Mercatini
ATTACH;FMTTYPE=image/jpeg:https://ormea.info/wp-content/uploads/2026/03/mercatini-artigianato-ormea-2026.jpg
END:VEVENT
BEGIN:VEVENT
DTSTART;VALUE=DATE:20260712
DTEND;VALUE=DATE:20260713
DTSTAMP:20260421T024734
CREATED:20260310T134113Z
LAST-MODIFIED:20260310T134113Z
UID:16435-1783814400-1783900799@ormea.info
SUMMARY:Mercatino dell'antiquariato
DESCRIPTION:Nella suggestiva e centralissima via Roma nel centro storico di Ormea tornano i Mercatini dell’Antiquariato\, un appuntamento imperdibile per gli amanti del passato\, del collezionismo e degli oggetti unici. Tra le bancarelle\, si potranno trovare mobili d’epoca\, libri antichi\, ceramiche\, stampe\, monete\, oggetti in ferro battuto e tante curiosità che raccontano storie di altri tempi. \nOltre all’antiquariato\, il mercatino ospiterà anche un’ampia selezione di prodotti tipici alimentari\, tra cui formaggi di montagna\, mieli locali\, confetture artigianali e salumi tradizionali\, per un’esperienza che unisce la passione per il bello con i sapori autentici del territorio. \nUn’occasione perfetta per passeggiare tra le vie di Ormea alla ricerca di pezzi rari e particolari\, immergendosi in un’atmosfera ricca di fascino e tradizione. \nPer partecipare contattare su whatsapp il (+39) 338 6571 053.
URL:https://ormea.info/evento/mercatino-dellantiquariato-12-luglio-2026/10/2026/
LOCATION:Via Roma\, Via Roma\, Ormea\, 12078\, Italy
CATEGORIES:Mercatini
ATTACH;FMTTYPE=image/jpeg:https://ormea.info/wp-content/uploads/2026/03/mercatini-antiquariato-ormea-2026.jpg
END:VEVENT
BEGIN:VEVENT
DTSTART;VALUE=DATE:20260726
DTEND;VALUE=DATE:20260727
DTSTAMP:20260421T024734
CREATED:20260310T141450Z
LAST-MODIFIED:20260310T141450Z
UID:16442-1785024000-1785110399@ormea.info
SUMMARY:Mercatino dell'artigianato
DESCRIPTION:Nella centralissima Via Roma\, tornano i Mercatini del Cuore con il mercatino dell’Artigianato\, un appuntamento speciale dedicato all’amore\, alla creatività e ai sapori del territorio. Artigiani e produttori locali esporranno le loro creazioni uniche\, realizzate con passione e maestria: gioielli fatti a mano\, oggetti in legno\, ceramiche artistiche\, tessuti decorati e tante altre idee regalo. \nOltre all’artigianato\, i visitatori potranno trovare un’ampia selezione di prodotti tipici alimentari\, dalle confetture ai mieli locali\, dai formaggi di montagna ai salumi tradizionali\, senza dimenticare biscotti e dolci artigianali. Un viaggio tra sapori autentici e genuini\, perfetti per un regalo speciale o per arricchire la propria tavola con eccellenze locali. \nPasseggiando tra le bancarelle\, sarà possibile immergersi in un’atmosfera romantica e accogliente. \nPer partecipare contattare su whatsapp il (+39) 338 6571 053.
URL:https://ormea.info/evento/mercatino-26-luglio/10/2026/
LOCATION:Via Roma\, Via Roma\, Ormea\, 12078\, Italy
CATEGORIES:Mercatini
ATTACH;FMTTYPE=image/jpeg:https://ormea.info/wp-content/uploads/2026/03/mercatini-artigianato-ormea-2026.jpg
END:VEVENT
BEGIN:VEVENT
DTSTART;VALUE=DATE:20260809
DTEND;VALUE=DATE:20260810
DTSTAMP:20260421T024734
CREATED:20260310T140939Z
LAST-MODIFIED:20260310T140939Z
UID:16436-1786233600-1786319999@ormea.info
SUMMARY:Mercatino dell'antiquariato
DESCRIPTION:Nella suggestiva e centralissima via Roma nel centro storico di Ormea tornano i Mercatini dell’Antiquariato\, un appuntamento imperdibile per gli amanti del passato\, del collezionismo e degli oggetti unici. Tra le bancarelle\, si potranno trovare mobili d’epoca\, libri antichi\, ceramiche\, stampe\, monete\, oggetti in ferro battuto e tante curiosità che raccontano storie di altri tempi. \nOltre all’antiquariato\, il mercatino ospiterà anche un’ampia selezione di prodotti tipici alimentari\, tra cui formaggi di montagna\, mieli locali\, confetture artigianali e salumi tradizionali\, per un’esperienza che unisce la passione per il bello con i sapori autentici del territorio. \nUn’occasione perfetta per passeggiare tra le vie di Ormea alla ricerca di pezzi rari e particolari\, immergendosi in un’atmosfera ricca di fascino e tradizione. \nPer partecipare contattare su whatsapp il (+39) 338 6571 053.
URL:https://ormea.info/evento/mercatino-dellantiquariato-9-8/10/2026/
LOCATION:Via Roma\, Via Roma\, Ormea\, 12078\, Italy
CATEGORIES:Mercatini
ATTACH;FMTTYPE=image/jpeg:https://ormea.info/wp-content/uploads/2026/03/mercatini-antiquariato-ormea-2026.jpg
END:VEVENT
BEGIN:VEVENT
DTSTART;VALUE=DATE:20260815
DTEND;VALUE=DATE:20260816
DTSTAMP:20260421T024734
CREATED:20260310T141605Z
LAST-MODIFIED:20260310T141605Z
UID:16443-1786752000-1786838399@ormea.info
SUMMARY:Mercatino dell'artigianato
DESCRIPTION:Nella centralissima Via Roma\, tornano i Mercatini del Cuore con il mercatino dell’Artigianato\, un appuntamento speciale dedicato all’amore\, alla creatività e ai sapori del territorio. Artigiani e produttori locali esporranno le loro creazioni uniche\, realizzate con passione e maestria: gioielli fatti a mano\, oggetti in legno\, ceramiche artistiche\, tessuti decorati e tante altre idee regalo. \nOltre all’artigianato\, i visitatori potranno trovare un’ampia selezione di prodotti tipici alimentari\, dalle confetture ai mieli locali\, dai formaggi di montagna ai salumi tradizionali\, senza dimenticare biscotti e dolci artigianali. Un viaggio tra sapori autentici e genuini\, perfetti per un regalo speciale o per arricchire la propria tavola con eccellenze locali. \nPasseggiando tra le bancarelle\, sarà possibile immergersi in un’atmosfera romantica e accogliente. \nPer partecipare contattare su whatsapp il (+39) 338 6571 053.
URL:https://ormea.info/evento/mercatino-ferragosto/10/2026/
LOCATION:Via Roma\, Via Roma\, Ormea\, 12078\, Italy
CATEGORIES:Mercatini
ATTACH;FMTTYPE=image/jpeg:https://ormea.info/wp-content/uploads/2026/03/mercatini-artigianato-ormea-2026.jpg
END:VEVENT
BEGIN:VEVENT
DTSTART;VALUE=DATE:20260830
DTEND;VALUE=DATE:20260831
DTSTAMP:20260421T024734
CREATED:20260310T141647Z
LAST-MODIFIED:20260310T141647Z
UID:16444-1788048000-1788134399@ormea.info
SUMMARY:Mercatino dell'artigianato
DESCRIPTION:Nella centralissima Via Roma\, tornano i Mercatini del Cuore con il mercatino dell’Artigianato\, un appuntamento speciale dedicato all’amore\, alla creatività e ai sapori del territorio. Artigiani e produttori locali esporranno le loro creazioni uniche\, realizzate con passione e maestria: gioielli fatti a mano\, oggetti in legno\, ceramiche artistiche\, tessuti decorati e tante altre idee regalo. \nOltre all’artigianato\, i visitatori potranno trovare un’ampia selezione di prodotti tipici alimentari\, dalle confetture ai mieli locali\, dai formaggi di montagna ai salumi tradizionali\, senza dimenticare biscotti e dolci artigianali. Un viaggio tra sapori autentici e genuini\, perfetti per un regalo speciale o per arricchire la propria tavola con eccellenze locali. \nPasseggiando tra le bancarelle\, sarà possibile immergersi in un’atmosfera romantica e accogliente. \nPer partecipare contattare su whatsapp il (+39) 338 6571 053.
URL:https://ormea.info/evento/mercatino-artigianato-30-agosto/10/2026/
LOCATION:Via Roma\, Via Roma\, Ormea\, 12078\, Italy
CATEGORIES:Mercatini
ATTACH;FMTTYPE=image/jpeg:https://ormea.info/wp-content/uploads/2026/03/mercatini-artigianato-ormea-2026.jpg
END:VEVENT
BEGIN:VEVENT
DTSTART;VALUE=DATE:20260913
DTEND;VALUE=DATE:20260914
DTSTAMP:20260421T024734
CREATED:20260310T141015Z
LAST-MODIFIED:20260310T141015Z
UID:16437-1789257600-1789343999@ormea.info
SUMMARY:Mercatino dell'antiquariato
DESCRIPTION:Nella suggestiva e centralissima via Roma nel centro storico di Ormea tornano i Mercatini dell’Antiquariato\, un appuntamento imperdibile per gli amanti del passato\, del collezionismo e degli oggetti unici. Tra le bancarelle\, si potranno trovare mobili d’epoca\, libri antichi\, ceramiche\, stampe\, monete\, oggetti in ferro battuto e tante curiosità che raccontano storie di altri tempi. \nOltre all’antiquariato\, il mercatino ospiterà anche un’ampia selezione di prodotti tipici alimentari\, tra cui formaggi di montagna\, mieli locali\, confetture artigianali e salumi tradizionali\, per un’esperienza che unisce la passione per il bello con i sapori autentici del territorio. \nUn’occasione perfetta per passeggiare tra le vie di Ormea alla ricerca di pezzi rari e particolari\, immergendosi in un’atmosfera ricca di fascino e tradizione. \nPer partecipare contattare su whatsapp il (+39) 338 6571 053.
URL:https://ormea.info/evento/mercatino-dellantiquariato-13-9/10/2026/
LOCATION:Via Roma\, Via Roma\, Ormea\, 12078\, Italy
CATEGORIES:Mercatini
ATTACH;FMTTYPE=image/jpeg:https://ormea.info/wp-content/uploads/2026/03/mercatini-antiquariato-ormea-2026.jpg
END:VEVENT
BEGIN:VEVENT
DTSTART;VALUE=DATE:20260927
DTEND;VALUE=DATE:20260928
DTSTAMP:20260421T024734
CREATED:20260310T141728Z
LAST-MODIFIED:20260310T141728Z
UID:16446-1790467200-1790553599@ormea.info
SUMMARY:Mercatino dell'artigianato
DESCRIPTION:Nella centralissima Via Roma\, tornano i Mercatini del Cuore con il mercatino dell’Artigianato\, un appuntamento speciale dedicato all’amore\, alla creatività e ai sapori del territorio. Artigiani e produttori locali esporranno le loro creazioni uniche\, realizzate con passione e maestria: gioielli fatti a mano\, oggetti in legno\, ceramiche artistiche\, tessuti decorati e tante altre idee regalo. \nOltre all’artigianato\, i visitatori potranno trovare un’ampia selezione di prodotti tipici alimentari\, dalle confetture ai mieli locali\, dai formaggi di montagna ai salumi tradizionali\, senza dimenticare biscotti e dolci artigianali. Un viaggio tra sapori autentici e genuini\, perfetti per un regalo speciale o per arricchire la propria tavola con eccellenze locali. \nPasseggiando tra le bancarelle\, sarà possibile immergersi in un’atmosfera romantica e accogliente. \nPer partecipare contattare su whatsapp il (+39) 338 6571 053.
URL:https://ormea.info/evento/mercatino-artigianato-27-settembre/10/2026/
LOCATION:Via Roma\, Via Roma\, Ormea\, 12078\, Italy
CATEGORIES:Mercatini
ATTACH;FMTTYPE=image/jpeg:https://ormea.info/wp-content/uploads/2026/03/mercatini-artigianato-ormea-2026.jpg
END:VEVENT
BEGIN:VEVENT
DTSTART;VALUE=DATE:20261018
DTEND;VALUE=DATE:20261019
DTSTAMP:20260421T024734
CREATED:20260310T141826Z
LAST-MODIFIED:20260310T141826Z
UID:16447-1792281600-1792367999@ormea.info
SUMMARY:Mercatino dell'artigianato
DESCRIPTION:Nella centralissima Via Roma\, tornano i Mercatini del Cuore con il mercatino dell’Artigianato\, un appuntamento speciale dedicato all’amore\, alla creatività e ai sapori del territorio. Artigiani e produttori locali esporranno le loro creazioni uniche\, realizzate con passione e maestria: gioielli fatti a mano\, oggetti in legno\, ceramiche artistiche\, tessuti decorati e tante altre idee regalo. \nOltre all’artigianato\, i visitatori potranno trovare un’ampia selezione di prodotti tipici alimentari\, dalle confetture ai mieli locali\, dai formaggi di montagna ai salumi tradizionali\, senza dimenticare biscotti e dolci artigianali. Un viaggio tra sapori autentici e genuini\, perfetti per un regalo speciale o per arricchire la propria tavola con eccellenze locali. \nPasseggiando tra le bancarelle\, sarà possibile immergersi in un’atmosfera romantica e accogliente. \nPer partecipare contattare su whatsapp il (+39) 338 6571 053.
URL:https://ormea.info/evento/mercatino-artigianato-castagnata/10/2026/
LOCATION:Via Roma\, Via Roma\, Ormea\, 12078\, Italy
CATEGORIES:Mercatini
ATTACH;FMTTYPE=image/jpeg:https://ormea.info/wp-content/uploads/2026/03/mercatini-artigianato-ormea-2026.jpg
END:VEVENT
BEGIN:VEVENT
DTSTART;VALUE=DATE:20261208
DTEND;VALUE=DATE:20261209
DTSTAMP:20260421T024734
CREATED:20260310T141858Z
LAST-MODIFIED:20260310T141858Z
UID:16448-1796688000-1796774399@ormea.info
SUMMARY:Mercatino dell'artigianato
DESCRIPTION:Nella centralissima Via Roma\, tornano i Mercatini del Cuore con il mercatino dell’Artigianato\, un appuntamento speciale dedicato all’amore\, alla creatività e ai sapori del territorio. Artigiani e produttori locali esporranno le loro creazioni uniche\, realizzate con passione e maestria: gioielli fatti a mano\, oggetti in legno\, ceramiche artistiche\, tessuti decorati e tante altre idee regalo. \nOltre all’artigianato\, i visitatori potranno trovare un’ampia selezione di prodotti tipici alimentari\, dalle confetture ai mieli locali\, dai formaggi di montagna ai salumi tradizionali\, senza dimenticare biscotti e dolci artigianali. Un viaggio tra sapori autentici e genuini\, perfetti per un regalo speciale o per arricchire la propria tavola con eccellenze locali. \nPasseggiando tra le bancarelle\, sarà possibile immergersi in un’atmosfera romantica e accogliente. \nPer partecipare contattare su whatsapp il (+39) 338 6571 053.
URL:https://ormea.info/evento/mercatino-natale/10/2026/
LOCATION:Via Roma\, Via Roma\, Ormea\, 12078\, Italy
CATEGORIES:Mercatini
ATTACH;FMTTYPE=image/jpeg:https://ormea.info/wp-content/uploads/2026/03/mercatini-artigianato-ormea-2026.jpg
END:VEVENT
END:VCALENDAR